BEGIN:VCALENDAR
VERSION:2.0
PRODID:-//Divine-Infinity - ECPv4.6.10.1//NONSGML v1.0//EN
CALSCALE:GREGORIAN
METHOD:PUBLISH
X-WR-CALNAME:Divine-Infinity
X-ORIGINAL-URL:http://divine-infinity.com
X-WR-CALDESC:Events for Divine-Infinity
BEGIN:VEVENT
DTSTART;TZID=Europe/London:20170616T103000
DTEND;TZID=Europe/London:20170618T180000
DTSTAMP:20260421T135737
CREATED:20170406T124853Z
LAST-MODIFIED:20170406T124853Z
UID:702-1497609000-1497808800@divine-infinity.com
SUMMARY:Angelic Reiki Training Practitioner Level
DESCRIPTION:**Level 1\, 2\, 3 & 4 is a prerequisite for attending this workshop** \nPractitioner level training in this powerful healing system. \nBooking link: Stepping Stones Greenwich London SE10 \nDates and times: Friday June 16th 10:30am – 6pm\, Saturday June 17th and Sunday June 18th 10:30am – 6pm \nExisting practitioners in another healing system 2 day course Saturday and Sunday (required that you must provide proof that you are already self-employed as a healer/therapist)\, all others full 3 day course. \n
URL:http://divine-infinity.com/event/angelic-reiki-training-practitioner-level/
LOCATION:97 Trafalgar Road\, London\, Greenwich\, SE10 9TS\, United Kingdom
ORGANIZER;CN="Monica%20Fizelle":MAILTO:monica
END:VEVENT
END:VCALENDAR