BEGIN:VCALENDAR
VERSION:2.0
PRODID:-//Divine-Infinity - ECPv4.6.10.1//NONSGML v1.0//EN
CALSCALE:GREGORIAN
METHOD:PUBLISH
X-WR-CALNAME:Divine-Infinity
X-ORIGINAL-URL:http://divine-infinity.com
X-WR-CALDESC:Events for Divine-Infinity
BEGIN:VEVENT
DTSTART;TZID=Europe/London:20170519T150000
DTEND;TZID=Europe/London:20170521T180000
DTSTAMP:20260421T142222
CREATED:20170406T123855Z
LAST-MODIFIED:20170406T123855Z
UID:699-1495206000-1495389600@divine-infinity.com
SUMMARY:Angelic Reiki Training Level 1&2
DESCRIPTION:Come learn this powerful and beautiful hands-on healing technique that works with the highest energies of the Angelic Realm to bring about healing and balance on all levels to those receiving the healing energy. \nAngelic Reiki Level 1&2 Course Description \nBooking link: Stepping Stones Greenwich London SE10 \nDates and time: Friday May 19th 3 – 6pm\, Saturday May 20th and Sunday May 21st 10:30am – 6pm \n
URL:http://divine-infinity.com/event/angelic-reiki-training-level-12-2/
LOCATION:97 Trafalgar Road\, London\, Greenwich\, SE10 9TS\, United Kingdom
ORGANIZER;CN="Monica%20Fizelle":MAILTO:monica
END:VEVENT
END:VCALENDAR