BEGIN:VCALENDAR
VERSION:2.0
PRODID:-//Divine-Infinity - ECPv4.6.10.1//NONSGML v1.0//EN
CALSCALE:GREGORIAN
METHOD:PUBLISH
X-WR-CALNAME:Divine-Infinity
X-ORIGINAL-URL:http://divine-infinity.com
X-WR-CALDESC:Events for Divine-Infinity
BEGIN:VEVENT
DTSTART;TZID=Europe/London:20170602T140000
DTEND;TZID=Europe/London:20170604T180000
DTSTAMP:20260421T122108
CREATED:20170302T154109Z
LAST-MODIFIED:20170406T123521Z
UID:379-1496412000-1496599200@divine-infinity.com
SUMMARY:Angelic Reiki Training Level 3&4
DESCRIPTION:**Level 1&2 is a prerequisite for attending this workshop** \nContinuation from Level 1&2 in this powerful healing system. \nBooking link: Stepping Stones Greenwich London SE10 \nDates and times: Friday June 2nd 3 – 6pm\, Saturday June 3rd and Sunday June 4th 10:30am – 6pm \n
URL:http://divine-infinity.com/event/angelic-reiki-level-34/
LOCATION:97 Trafalgar Road\, London\, Greenwich\, SE10 9TS\, United Kingdom
ORGANIZER;CN="Monica%20Fizelle":MAILTO:monica
END:VEVENT
END:VCALENDAR