BEGIN:VCALENDAR
VERSION:2.0
PRODID:-//Divine-Infinity - ECPv4.6.10.1//NONSGML v1.0//EN
CALSCALE:GREGORIAN
METHOD:PUBLISH
X-WR-CALNAME:Divine-Infinity
X-ORIGINAL-URL:http://divine-infinity.com
X-WR-CALDESC:Events for Divine-Infinity
BEGIN:VEVENT
DTSTART;TZID=Europe/London:20170414T190000
DTEND;TZID=Europe/London:20170414T193000
DTSTAMP:20260421T110348
CREATED:20170409T114433Z
LAST-MODIFIED:20170409T114433Z
UID:705-1492196400-1492198200@divine-infinity.com
SUMMARY:Angelic Reiki - Group Distance Healing
DESCRIPTION:Offering a group distance healing using Angelic Reiki.\nAngels are not restricted by time and space\, therefore\, by working with the Angelic Kingdom of Light\, the healing that you will receive will be the most perfect healing for you at this time. \nHow does this work?\nVia Distance – At the designated time\, I will connect into the Angelic Kingdom and then connect with you (the group) energetically to perform the healing. If you can be somewhere comfortable regardless of where in the world you are located for this healing please do so. Also if you are unable to be somewhere relaxing due to being at work or travelling\, please let me know and I ask the Angels to place the healing over you whilst you sleep. \nClick here to book \n
URL:http://divine-infinity.com/event/angelic-reiki-group-distance-healing/
END:VEVENT
END:VCALENDAR