BEGIN:VCALENDAR
VERSION:2.0
PRODID:-//Divine-Infinity - ECPv4.6.10.1//NONSGML v1.0//EN
CALSCALE:GREGORIAN
METHOD:PUBLISH
X-WR-CALNAME:Divine-Infinity
X-ORIGINAL-URL:http://divine-infinity.com
X-WR-CALDESC:Events for Divine-Infinity
BEGIN:VEVENT
DTSTART;TZID=Europe/London:20180511T103000
DTEND;TZID=Europe/London:20180513T180000
DTSTAMP:20260421T093821
CREATED:20180212T110754Z
LAST-MODIFIED:20180212T111144Z
UID:723-1526034600-1526234400@divine-infinity.com
SUMMARY:2018 - Angelic Reiki Level 3&4 Workshop
DESCRIPTION:Come join us in learn the next level of this powerful and beautiful hands-on healing technique that works with the highest energies of the Angelic Realm to bring about healing and balance on all levels to those receiving the healing energy. \nAngelic Reiki Level 3&4 Course Description \nBooking link: Stepping Stones Greenwich London SE10 \nWorkshop schedule: Friday May 11th from 3pm – 6pm; Saturday May12th & Sunday May 13th from 10:30 – 6pm \n
URL:http://divine-infinity.com/event/2018-angelic-reiki-level-34-workshop/
END:VEVENT
END:VCALENDAR